BEGIN:VCALENDAR
VERSION:2.0
PRODID:-//ChamberMaster//Event Calendar 2.0//EN
METHOD:PUBLISH
X-PUBLISHED-TTL:P3D
REFRESH-INTERVAL:P3D
CALSCALE:GREGORIAN
BEGIN:VEVENT
DTSTART:20210809T130000Z
DTEND:20210809T200000Z
X-MICROSOFT-CDO-ALLDAYEVENT:FALSE
SUMMARY:Aqua Adventures! Camp
DESCRIPTION:Youth Summer Camp for Ages 4-10
X-ALT-DESC;FMTTYPE=text/html:Youth Summer Camp for Ages 4-10
LOCATION:Kearney Area Children's Museum
UID:e.1404.19291
SEQUENCE:3
DTSTAMP:20260424T035552Z
URL:https://members.kearneycoc.org/events/details/aqua-adventures-camp-19291
END:VEVENT

END:VCALENDAR
