BEGIN:VCALENDAR
VERSION:2.0
PRODID:-//ChamberMaster//Event Calendar 2.0//EN
METHOD:PUBLISH
X-PUBLISHED-TTL:P3D
REFRESH-INTERVAL:P3D
CALSCALE:GREGORIAN
BEGIN:VEVENT
DTSTART:20150927T190000Z
DTEND:20150927T210000Z
X-MICROSOFT-CDO-ALLDAYEVENT:FALSE
SUMMARY:Art by Yasmina Reza
DESCRIPTION:Crane River Theater Presents: Winner of the 1998 Tony Award for Best Play\, ART is one the most popularly produced plays in recent history. It is an engaging story that will leave audiences debating on the way home. Not only does it focus on the meaning of art\, but more importantly the meaning of friendship. Funny\, sophisticated and stylish\, this is one play you do not want to miss!
X-ALT-DESC;FMTTYPE=text/html:Crane River Theater Presents: Winner of the 1998 Tony Award for Best Play\, ART is one the most popularly produced plays in recent history. It is an engaging story that will leave audiences debating on the way home. Not only does it focus on the meaning of art\, but more importantly the meaning of friendship. Funny\, sophisticated and stylish\, this is one play you do not want to miss!
LOCATION:Museum of Nebraska Art (MONA) 2401 Central Avenue Kearney\, 68847
UID:e.1404.6720
SEQUENCE:3
DTSTAMP:20260422T101717Z
URL:https://members.kearneycoc.org/events/details/art-by-yasmina-reza-09-27-2015-6720
END:VEVENT

END:VCALENDAR
