BEGIN:VCALENDAR
VERSION:2.0
PRODID:-//ChamberMaster//Event Calendar 2.0//EN
METHOD:PUBLISH
X-PUBLISHED-TTL:P3D
REFRESH-INTERVAL:P3D
CALSCALE:GREGORIAN
BEGIN:VEVENT
DTSTART:20210710T170000Z
DTEND:20210710T230000Z
X-MICROSOFT-CDO-ALLDAYEVENT:FALSE
SUMMARY:Art in the Park 2021
DESCRIPTION:50th Annual Art in the Park at Harmon Park\n\nJoin one of Kearney's longest-standing events. Artists around the Midwest travel to Kearney to exhibit and sell one-of-a-kind artworks in the beautiful Harmon Park. Food vendors help continue to make this extravaganza a signature event for the community.
X-ALT-DESC;FMTTYPE=text/html:<p style="margin-bottom: 16px\; font-size: 18px\; line-height: 1.5\; color: rgb(20\, 24\, 39)\; font-family: &quot\;Helvetica Neue&quot\;\, Helvetica\, -apple-system\, BlinkMacSystemFont\, Roboto\, Arial\, sans-serif\;">50th Annual Art in the Park at Harmon Park</p>\n\n<p style="margin-bottom: 28px\; font-size: 18px\; line-height: 1.5\; color: rgb(20\, 24\, 39)\; font-family: &quot\;Helvetica Neue&quot\;\, Helvetica\, -apple-system\, BlinkMacSystemFont\, Roboto\, Arial\, sans-serif\;">Join one of Kearney&rsquo\;s longest-standing events. Artists around the Midwest travel to Kearney to exhibit and sell one-of-a-kind artworks in the beautiful Harmon Park. Food vendors help continue to make this extravaganza a signature event for the community.</p>\n
LOCATION:Harmon Park 3020 5th Ave.
UID:e.1404.19348
SEQUENCE:3
DTSTAMP:20260424T035757Z
URL:https://members.kearneycoc.org/events/details/art-in-the-park-2021-19348
END:VEVENT

END:VCALENDAR
