BEGIN:VCALENDAR
VERSION:2.0
PRODID:-//ChamberMaster//Event Calendar 2.0//EN
METHOD:PUBLISH
X-PUBLISHED-TTL:P3D
REFRESH-INTERVAL:P3D
CALSCALE:GREGORIAN
BEGIN:VEVENT
DTSTART:20130309T150000Z
DTEND:20130309T210000Z
X-MICROSOFT-CDO-ALLDAYEVENT:FALSE
SUMMARY:ARTS & CRAFTS FAIR
DESCRIPTION:First Lutheran Church is excited to host this Arts and Crafts fundraiser for Nebraska Lutheran Campus Ministries!\n\n10% of vendor proceeds go toward supporting Nebraska Lutheran Campus Ministries at UNK. \n\nCome and enjoy the gifts and talents of local artists!\n\n\n\nhttp://www.firstlutherankearney.org/artsfair.html\n\n\n	If interested in displaying and selling your work\, download the registration form here!\nDISCOUNTED EARLY BIRD REGISTRATION DUE FEB. 8th\, 2013\n\nRegular Registration Due March 4th\, 2013
X-ALT-DESC;FMTTYPE=text/html:<span itemprop="description">First Lutheran Church is excited to host this Arts and Crafts fundraiser for Nebraska Lutheran Campus Ministries!<br />\n10% of vendor proceeds go toward supporting Nebraska Lutheran Campus Ministries at UNK. </span><br />\n<span itemprop="description">Come and enjoy the gifts and talents of local artists!<br />\n<br />\nhttp://www.firstlutherankearney.org/artsfair.html</span><br />\n<p align="center" class="style44">\n	If interested in displaying and selling your work\, download the <a href="http://www.firstlutherankearney.org/ArtsFairRegistrationForm2013.pdf" target="_blank">registration form here</a>!</p>\n<strong>DISCOUNTED EARLY BIRD REGISTRATION DUE FEB. 8th\, 2013</strong><br />\n<span class="style44">Regular Registration Due March 4th\, 2013 </span>
LOCATION:First Lutheran Church 3315 G Avenue Kearney\, NE 68847
UID:e.1404.2235
SEQUENCE:3
DTSTAMP:20260424T140549Z
URL:https://members.kearneycoc.org/events/details/arts-crafts-fair-03-09-2013-2235
END:VEVENT

END:VCALENDAR
