BEGIN:VCALENDAR
VERSION:2.0
PRODID:-//ChamberMaster//Event Calendar 2.0//EN
METHOD:PUBLISH
X-PUBLISHED-TTL:P3D
REFRESH-INTERVAL:P3D
CALSCALE:GREGORIAN
BEGIN:VEVENT
DTSTART:20191009T150000Z
DTEND:20191009T210000Z
X-MICROSOFT-CDO-ALLDAYEVENT:FALSE
SUMMARY:AseraCare Hospice Blood Drive
DESCRIPTION:Give Blood. Help save lives. \n\nTo schedule an appointment visit\, www.redcrossblood.org and enter sponsor code: aseracare
X-ALT-DESC;FMTTYPE=text/html:Give Blood. Help save lives.&nbsp\;<br />\nTo schedule an appointment visit\, <a href="http://www.redcrossblood.org">www.redcrossblood.org</a> and enter sponsor code: aseracare
LOCATION:AseraCare Hospice 4111 4th Ave. Ste 50 (conference room)
UID:e.1404.18185
SEQUENCE:3
DTSTAMP:20260425T164003Z
URL:https://members.kearneycoc.org/events/details/aseracare-hospice-blood-drive-18185
END:VEVENT

END:VCALENDAR
