BEGIN:VCALENDAR
VERSION:2.0
PRODID:-//ChamberMaster//Event Calendar 2.0//EN
METHOD:PUBLISH
X-PUBLISHED-TTL:P3D
REFRESH-INTERVAL:P3D
CALSCALE:GREGORIAN
BEGIN:VEVENT
DTSTART:20130720T130000Z
DTEND:20130720T170000Z
X-MICROSOFT-CDO-ALLDAYEVENT:FALSE
SUMMARY:ATV Rider Safety Training Course
DESCRIPTION:For ages: 6-9\n\nCourse Fee: $50\n\nFor more information or to register please email: bus@unk.edu  and request a registration form.
X-ALT-DESC;FMTTYPE=text/html:For ages: 6-9<br />\nCourse Fee: $50<br />\nFor more information or to register please email: bus@unk.edu&nbsp\; and request a registration form.
LOCATION:Nebraska Safety Center Driving Range 1801 N Railroad\, Kearney\, NE 68845
UID:e.1404.3252
SEQUENCE:3
DTSTAMP:20260424T081236Z
URL:https://members.kearneycoc.org/events/details/atv-rider-safety-training-course-07-20-2013-3252
END:VEVENT

END:VCALENDAR
