BEGIN:VCALENDAR
VERSION:2.0
PRODID:-//ChamberMaster//Event Calendar 2.0//EN
METHOD:PUBLISH
X-PUBLISHED-TTL:P3D
REFRESH-INTERVAL:P3D
CALSCALE:GREGORIAN
BEGIN:VEVENT
DTSTART:20150801T170000Z
DTEND:20150801T210000Z
X-MICROSOFT-CDO-ALLDAYEVENT:FALSE
SUMMARY:Back to School BBQ
DESCRIPTION:Join Hilltop Mall and Hy-Vee for an afternoon of grilling and back to school shopping. Earn a free hot dog and goodie bag from Hy-Vee after spending a combined $50 at Hilltop Mall. Present your 7/31-8/1 receipts at the Old Navy Mall Entrance\, limit 4 per family.
X-ALT-DESC;FMTTYPE=text/html:Join Hilltop Mall and Hy-Vee for an afternoon of grilling and back to school shopping. Earn a free hot dog and goodie bag from Hy-Vee after spending a combined $50 at Hilltop Mall. Present your 7/31-8/1 receipts at the Old Navy Mall Entrance\, limit 4 per family.
LOCATION:Hilltop Mall 5011 2nd Ave Kearney\, NE 68847
UID:e.1404.6660
SEQUENCE:3
DTSTAMP:20260422T114428Z
URL:https://members.kearneycoc.org/events/details/back-to-school-bbq-08-01-2015-6660
END:VEVENT

END:VCALENDAR
