BEGIN:VCALENDAR
VERSION:2.0
PRODID:-//ChamberMaster//Event Calendar 2.0//EN
METHOD:PUBLISH
X-PUBLISHED-TTL:P3D
REFRESH-INTERVAL:P3D
CALSCALE:GREGORIAN
BEGIN:VEVENT
DTSTART:20160806T150000Z
DTEND:20160807T020000Z
X-MICROSOFT-CDO-ALLDAYEVENT:FALSE
SUMMARY:Back to School Lure Party
DESCRIPTION:Hilltop Mall is hosting a back to school Lure Party Saturday August 6th from 10am-3pm. The mall will be providing lures the top of each hour (from 10-3) at the mall's Post Office Pokestop and stores are offering discounts for Pokemon Go all day! Visit our website for more info and the full list of participating stores. Notice some mall stores are offering Pokemon go discounts all month long!
X-ALT-DESC;FMTTYPE=text/html:Hilltop Mall is hosting a back to school Lure Party Saturday August 6th from 10am-3pm. The mall will be providing lures the top of each hour (from 10-3) at the mall&rsquo\;s Post Office Pokestop and stores are offering discounts for Pokemon Go all day! Visit our website for more info and the full list of participating stores. Notice some mall stores are offering Pokemon go discounts all month long!
LOCATION:Hilltop Mall 5011 2nd Ave Kearney\, NE 68845
UID:e.1404.8963
SEQUENCE:3
DTSTAMP:20260421T170956Z
URL:https://members.kearneycoc.org/events/details/back-to-school-lure-party-08-06-2016-8963
END:VEVENT

END:VCALENDAR
