BEGIN:VCALENDAR
VERSION:2.0
PRODID:-//ChamberMaster//Event Calendar 2.0//EN
METHOD:PUBLISH
X-PUBLISHED-TTL:P3D
REFRESH-INTERVAL:P3D
CALSCALE:GREGORIAN
BEGIN:VEVENT
DTSTART:20141113T230000Z
DTEND:20141114T010000Z
X-MICROSOFT-CDO-ALLDAYEVENT:FALSE
SUMMARY:BAH - AmericInn/Viaero Event Center
DESCRIPTION:Come and check out all the updates to the AmericInn with Viaero Event Center as cohost and enjoy this Business After Hours with fellow Chamber members and guests! \n\n* "Desserts" provided by Perkins and Refreshments provided by Viaero Event Center\n\n * Silent Auction to benefit "Give Kids the World" Village. A 70 acre\, non profit resort in Central Florida that creates magical memories for children with life-threatening illnesses and their families. \n\n* Register to win tickets from the Viaero Event Center for Cirque Du Soleil\, Randy Rogers Band\, Celtic Thunder and Storm Hockey
X-ALT-DESC;FMTTYPE=text/html:Come and check out all the updates to the AmericInn with&nbsp\;Viaero Event Center as cohost&nbsp\;and enjoy this Business After Hours with fellow Chamber members and guests!&nbsp\;<br />\n* &quot\;Desserts&quot\; provided by Perkins and Refreshments provided by Viaero Event Center<br />\n&nbsp\;* Silent Auction to benefit &quot\;Give Kids the World&quot\; Village. A 70 acre\, non profit resort in Central Florida that creates magical memories for children with life-threatening illnesses and their families.&nbsp\;<br />\n* Register to win tickets from the Viaero Event Center for Cirque Du Soleil\, Randy Rogers Band\, Celtic Thunder and Storm Hockey<br />\n<br />\n&nbsp\;<br />\n<br />\n&nbsp\;
LOCATION:AmericInn Lodge & Suites 215 W Talmadge Road
UID:e.1404.4435
SEQUENCE:3
DTSTAMP:20260423T034846Z
URL:https://members.kearneycoc.org/events/details/bah-americinn-viaero-event-center-11-13-2014-4435
END:VEVENT

END:VCALENDAR
