BEGIN:VCALENDAR
VERSION:2.0
PRODID:-//ChamberMaster//Event Calendar 2.0//EN
METHOD:PUBLISH
X-PUBLISHED-TTL:P3D
REFRESH-INTERVAL:P3D
CALSCALE:GREGORIAN
BEGIN:VEVENT
DTSTART:20201105T230000Z
DTEND:20201106T010000Z
X-MICROSOFT-CDO-ALLDAYEVENT:FALSE
SUMMARY:BAH - Anytime Fitness & Studios Group Fitness
DESCRIPTION:Join us for a Business After Hours for Anytime Fitness & Studios Group Fitness!
X-ALT-DESC;FMTTYPE=text/html:Join us for a Business After Hours for <a href="https://www.anytimefitness.com/">Anytime Fitness</a> &amp\; <a href="https://studios-group-fitness.ueniweb.com">Studios Group Fitness</a>!
LOCATION:Anytime Fitness & Studios Group Fitness 810 E 56th St. Kearney NE
UID:e.1404.18697
SEQUENCE:3
DTSTAMP:20260424T192337Z
URL:https://members.kearneycoc.org/events/details/bah-anytime-fitness-studios-group-fitness-18697
END:VEVENT

END:VCALENDAR
