BEGIN:VCALENDAR
VERSION:2.0
PRODID:-//ChamberMaster//Event Calendar 2.0//EN
METHOD:PUBLISH
X-PUBLISHED-TTL:P3D
REFRESH-INTERVAL:P3D
CALSCALE:GREGORIAN
BEGIN:VEVENT
DTSTART:20160922T220000Z
DTEND:20160923T000000Z
X-MICROSOFT-CDO-ALLDAYEVENT:FALSE
SUMMARY:BAH: Bank of the West
DESCRIPTION:Join us for refreshments\, giveaways and networking!
X-ALT-DESC;FMTTYPE=text/html:Join us for refreshments\, giveaways and networking!
LOCATION:4407 2nd Avenue
UID:e.1404.8910
SEQUENCE:3
DTSTAMP:20260421T140711Z
URL:https://members.kearneycoc.org/events/details/bah-bank-of-the-west-09-22-2016-8910
END:VEVENT

END:VCALENDAR
