BEGIN:VCALENDAR
VERSION:2.0
PRODID:-//ChamberMaster//Event Calendar 2.0//EN
METHOD:PUBLISH
X-PUBLISHED-TTL:P3D
REFRESH-INTERVAL:P3D
CALSCALE:GREGORIAN
BEGIN:VEVENT
DTSTART:20220217T230000Z
DTEND:20220218T010000Z
X-MICROSOFT-CDO-ALLDAYEVENT:FALSE
SUMMARY:BAH - Brewed Awakening at UNK West Center
DESCRIPTION:Join us to celebrate the remodel of Brewed Awakening\, a student run coffee shop\, at UNK West Center!
X-ALT-DESC;FMTTYPE=text/html:Join us to celebrate the remodel of Brewed Awakening\, a student run coffee shop\, at UNK West Center!
LOCATION:UNK West Center 1917 West 24th Street\, Kearney (use the East entrance)
UID:e.1404.19472
SEQUENCE:3
DTSTAMP:20260423T181108Z
URL:https://members.kearneycoc.org/events/details/bah-brewed-awakening-at-unk-west-center-19472
END:VEVENT

END:VCALENDAR
