BEGIN:VCALENDAR
VERSION:2.0
PRODID:-//ChamberMaster//Event Calendar 2.0//EN
METHOD:PUBLISH
X-PUBLISHED-TTL:P3D
REFRESH-INTERVAL:P3D
CALSCALE:GREGORIAN
BEGIN:VEVENT
DTSTART:20191029T220000Z
DTEND:20191030T000000Z
X-MICROSOFT-CDO-ALLDAYEVENT:FALSE
SUMMARY:BAH - Bruning Bank
DESCRIPTION:Join us for a Business After Hours with Bruning Bank in their new location!
X-ALT-DESC;FMTTYPE=text/html:Join us for a Business After Hours with Bruning Bank in their new location!
LOCATION:1110 17th Ave.
UID:e.1404.16641
SEQUENCE:3
DTSTAMP:20260425T163721Z
URL:https://members.kearneycoc.org/events/details/bah-bruning-bank-16641
END:VEVENT

END:VCALENDAR
