BEGIN:VCALENDAR
VERSION:2.0
PRODID:-//ChamberMaster//Event Calendar 2.0//EN
METHOD:PUBLISH
X-PUBLISHED-TTL:P3D
REFRESH-INTERVAL:P3D
CALSCALE:GREGORIAN
BEGIN:VEVENT
DTSTART:20190725T220000Z
DTEND:20190726T000000Z
X-MICROSOFT-CDO-ALLDAYEVENT:FALSE
SUMMARY:BAH - Buffalo County Fairgrounds
DESCRIPTION:Join us for Business After Hours at the Fair\, hosted by Buffalo County Fairgrounds!
X-ALT-DESC;FMTTYPE=text/html:Join us for Business After Hours at the Fair\, hosted by Buffalo County Fairgrounds!
LOCATION:Buffalo County Fairgrounds 3807 Avenue N\, Kearney\, NE 68847
UID:e.1404.15982
SEQUENCE:3
DTSTAMP:20260425T230939Z
URL:https://members.kearneycoc.org/events/details/bah-buffalo-county-fairgrounds-15982
END:VEVENT

END:VCALENDAR
