BEGIN:VCALENDAR
VERSION:2.0
PRODID:-//ChamberMaster//Event Calendar 2.0//EN
METHOD:PUBLISH
X-PUBLISHED-TTL:P3D
REFRESH-INTERVAL:P3D
CALSCALE:GREGORIAN
BEGIN:VEVENT
DTSTART:20150217T230000Z
DTEND:20150218T010000Z
X-MICROSOFT-CDO-ALLDAYEVENT:FALSE
SUMMARY:BAH: Cattlemen's Classic
DESCRIPTION:Sponsored by LandMark Implement...Enjoy refreshments at the LandMark Implement booth in the Expo Building. Runions Wholesale will be serving Beef. Come out and have a fun evening!
X-ALT-DESC;FMTTYPE=text/html:Sponsored by LandMark Implement...Enjoy refreshments at the&nbsp\;LandMark Implement booth in the Expo Building. Runions Wholesale will be&nbsp\;serving Beef. Come out and have a fun evening!
LOCATION:Buffalo County Fairgrounds Expo Building
UID:e.1404.5339
SEQUENCE:3
DTSTAMP:20260422T212221Z
URL:https://members.kearneycoc.org/events/details/bah-cattlemen-s-classic-02-17-2015-5339
END:VEVENT

END:VCALENDAR
