BEGIN:VCALENDAR
VERSION:2.0
PRODID:-//ChamberMaster//Event Calendar 2.0//EN
METHOD:PUBLISH
X-PUBLISHED-TTL:P3D
REFRESH-INTERVAL:P3D
CALSCALE:GREGORIAN
BEGIN:VEVENT
DTSTART:20130613T220000Z
DTEND:20130614T000000Z
X-MICROSOFT-CDO-ALLDAYEVENT:FALSE
SUMMARY:BAH: Chamber World Theatre Caddyshack Evening
DESCRIPTION:Join the Kearney Area Chamber of Commerce tonight from 5-7pm at The World Theatre for Business After Hours!!!  This event will be the kickoff for our 2013 Kearney Golf Classic.  Sozo American Cuisine will provide the catering and drink tickets will be distributed to all attendees.  At 7pm\, we will be screening the classic film "Caddyshack" for those wishing to stay and watch the movie.  We hope you will join us!
X-ALT-DESC;FMTTYPE=text/html:Join the Kearney Area Chamber of Commerce tonight from 5-7pm at The World Theatre for Business After Hours!!! &nbsp\;This event will be the kickoff for our 2013 Kearney Golf Classic. &nbsp\;Sozo American Cuisine will provide the catering and drink tickets will be distributed to all attendees. &nbsp\;At 7pm\, we will be screening the classic film &quot\;Caddyshack&quot\; for those wishing to stay and watch the movie. &nbsp\;We hope you will join us!&nbsp\;
LOCATION:The World Theatre in downtown Kearney
UID:e.1404.2906
SEQUENCE:3
DTSTAMP:20260424T102438Z
URL:https://members.kearneycoc.org/events/details/bah-chamber-world-theatre-caddyshack-evening-06-13-2013-2906
END:VEVENT

END:VCALENDAR
