BEGIN:VCALENDAR
VERSION:2.0
PRODID:-//ChamberMaster//Event Calendar 2.0//EN
METHOD:PUBLISH
X-PUBLISHED-TTL:P3D
REFRESH-INTERVAL:P3D
CALSCALE:GREGORIAN
BEGIN:VEVENT
DTSTART:20130502T220000Z
DTEND:20130503T000000Z
X-MICROSOFT-CDO-ALLDAYEVENT:FALSE
SUMMARY:BAH: Charter Business
DESCRIPTION:Join us for Business After Hours\, hosted by Charter Business at the Holiday Inn & Convention Center.    Hors d'oeuvres\, adult beverages & door prizes/drawings will all be given out/served.
X-ALT-DESC;FMTTYPE=text/html:Join us for Business After Hours\, hosted by Charter Business at the Holiday Inn &amp\; Convention Center. &nbsp\; &nbsp\;<span style="color: rgb(68\, 68\, 68)\; font-family: arial\, sans-serif\; font-size: small\; line-height: 16px\;">Hors d&#39\;oeuvres\, adult beverages &amp\; door prizes/drawings will all be given out/served.</span>
LOCATION:Holiday Inn & Convention Center in Kearney. This event will take place in Loper Hall (when you enter through the main doors\, head to the left)
UID:e.1404.2251
SEQUENCE:3
DTSTAMP:20260424T103504Z
URL:https://members.kearneycoc.org/events/details/bah-charter-business-05-02-2013-2251
END:VEVENT

END:VCALENDAR
