BEGIN:VCALENDAR
VERSION:2.0
PRODID:-//ChamberMaster//Event Calendar 2.0//EN
METHOD:PUBLISH
X-PUBLISHED-TTL:P3D
REFRESH-INTERVAL:P3D
CALSCALE:GREGORIAN
BEGIN:VEVENT
DTSTART:20160728T220000Z
DTEND:20160729T000000Z
X-MICROSOFT-CDO-ALLDAYEVENT:FALSE
SUMMARY:BAH: Credit Management
DESCRIPTION:Join us for a Business After Hours at Credit Management's new facility. We'll kick this festive night off with a ribbon cutting\, followed by food\, drinks and giveaways! Come out and enjoy margaritas and food from The Cellar! Prizes include a RTIC Tumbler\; Box of Pro V1 Golf Balls\, (2) Admission Tickets to the Nebraska State Fair and (2) VIP tickets to Lady Antebellum. Going to be a fun night!
X-ALT-DESC;FMTTYPE=text/html:Join us for a Business After Hours at Credit Management&#39\;s&nbsp\;new facility. We&#39\;ll kick this festive night off with a ribbon cutting\, followed by food\, drinks and giveaways! Come out and enjoy margaritas and food from The Cellar! Prizes include a RTIC Tumbler\; Box of Pro V1 Golf Balls\, (2) Admission Tickets to the Nebraska State Fair and (2) VIP tickets to Lady Antebellum. Going to be a fun night!
LOCATION:416 W 48th Street\, Suite 2
UID:e.1404.8772
SEQUENCE:3
DTSTAMP:20260421T184502Z
URL:https://members.kearneycoc.org/events/details/bah-credit-management-07-28-2016-8772
END:VEVENT

END:VCALENDAR
