BEGIN:VCALENDAR
VERSION:2.0
PRODID:-//ChamberMaster//Event Calendar 2.0//EN
METHOD:PUBLISH
X-PUBLISHED-TTL:P3D
REFRESH-INTERVAL:P3D
CALSCALE:GREGORIAN
BEGIN:VEVENT
DTSTART:20190613T220000Z
DTEND:20190614T000000Z
X-MICROSOFT-CDO-ALLDAYEVENT:FALSE
SUMMARY:BAH - Cunningham's on the Lake
DESCRIPTION:Join us for a Business After Hours with Cunningham's on the Lake and help them celebrate their 1 year anniversary!
X-ALT-DESC;FMTTYPE=text/html:Join us for a Business After Hours with Cunningham&#39\;s on the Lake and help them celebrate their 1 year anniversary!
LOCATION:Cunningham's on the Lake 610 Talmadge St. Ste A
UID:e.1404.15951
SEQUENCE:3
DTSTAMP:20260425T231143Z
URL:https://members.kearneycoc.org/events/details/bah-cunningham-s-on-the-lake-15951
END:VEVENT

END:VCALENDAR
