BEGIN:VCALENDAR
VERSION:2.0
PRODID:-//ChamberMaster//Event Calendar 2.0//EN
METHOD:PUBLISH
X-PUBLISHED-TTL:P3D
REFRESH-INTERVAL:P3D
CALSCALE:GREGORIAN
BEGIN:VEVENT
DTSTART:20140417T220000Z
DTEND:20140418T000000Z
X-MICROSOFT-CDO-ALLDAYEVENT:FALSE
SUMMARY:BAH: Developmental Services of Nebraska\, Inc.
DESCRIPTION:Developmental Services of Nebraska will be hosting a Business After Hours event through the Kearney Area Chamber of Commerce on Thursday\, April 17th from 5p-7p.  This event will be held at DSN's Kearney Area Office at 1709 W. 39th Street\, and will include appetizers\, beverages\, and door prizes!  Meet our experienced and dedicated Administration\, learn more about the services DSN provides and how we improve the life quality of people we support\, and tour our expanded vocational day site!   We look forward to seeing you there!
X-ALT-DESC;FMTTYPE=text/html:Developmental Services of Nebraska will be hosting a Business After Hours event through the Kearney Area Chamber of Commerce on Thursday\, April 17<sup>th</sup> from 5p-7p.&nbsp\; This event will be held at DSN&rsquo\;s Kearney Area Office at 1709 W. 39<sup>th</sup> Street\, and will include appetizers\, beverages\, and door prizes!&nbsp\; Meet our experienced and dedicated Administration\, learn more about the services DSN provides and how we improve the life quality of people we support\, and tour our expanded vocational day site!&nbsp\; &nbsp\;We look forward to seeing you there! &nbsp\; &nbsp\; &nbsp\;
LOCATION:Developmental Services of Nebraska\, Inc. 1709 West 39th Street Suite 1 Kearney\, NE 68845
UID:e.1404.4510
SEQUENCE:3
DTSTAMP:20260423T145927Z
URL:https://members.kearneycoc.org/events/details/bah-developmental-services-of-nebraska-inc-04-17-2014-4510
END:VEVENT

END:VCALENDAR
