BEGIN:VCALENDAR
VERSION:2.0
PRODID:-//ChamberMaster//Event Calendar 2.0//EN
METHOD:PUBLISH
X-PUBLISHED-TTL:P3D
REFRESH-INTERVAL:P3D
CALSCALE:GREGORIAN
BEGIN:VEVENT
DTSTART:20130625T220000Z
DTEND:20130626T000000Z
X-MICROSOFT-CDO-ALLDAYEVENT:FALSE
SUMMARY:BAH: Eagles Club
DESCRIPTION:Join us for Business After Hours at the Eagles Club in downtown Kearney.  Chef Carlos Poche will be serving up delicious appetizers and guests will also be treated to a complimentary drink chip.  Information on membership to the Eagles Club will also be available.  We'll see you at the Eagles Club tonight!
X-ALT-DESC;FMTTYPE=text/html:Join us for Business After Hours at the Eagles Club in downtown Kearney. &nbsp\;Chef Carlos Poche will be serving up delicious appetizers and guests will also be treated to a complimentary drink chip. &nbsp\;Information on membership to the Eagles Club will also be available. &nbsp\;We&#39\;ll see you at the Eagles Club tonight!&nbsp\;
LOCATION:17 W 24th Street
UID:e.1404.2486
SEQUENCE:3
DTSTAMP:20260424T102016Z
URL:https://members.kearneycoc.org/events/details/bah-eagles-club-06-25-2013-2486
END:VEVENT

END:VCALENDAR
