BEGIN:VCALENDAR
VERSION:2.0
PRODID:-//ChamberMaster//Event Calendar 2.0//EN
METHOD:PUBLISH
X-PUBLISHED-TTL:P3D
REFRESH-INTERVAL:P3D
CALSCALE:GREGORIAN
BEGIN:VEVENT
DTSTART:20130513T220000Z
DTEND:20130514T000000Z
X-MICROSOFT-CDO-ALLDAYEVENT:FALSE
SUMMARY:BAH: Ellerbrock Norris Insurance
DESCRIPTION:Business After Hours for Ellerbrock Norris Insurance at their new office location in the Eagles Nest Plaza.  We'll be grilling up burgers & brats for attendees and refreshments will be provided.
X-ALT-DESC;FMTTYPE=text/html:Business After Hours for Ellerbrock Norris Insurance at their new office location in the Eagles Nest Plaza. &nbsp\;We&#39\;ll be grilling up burgers &amp\; brats for attendees and refreshments will be provided.
LOCATION:4111 4th Avenue\, Suite 24
UID:e.1404.2241
SEQUENCE:3
DTSTAMP:20260424T103933Z
URL:https://members.kearneycoc.org/events/details/bah-ellerbrock-norris-insurance-05-13-2013-2241
END:VEVENT

END:VCALENDAR
