BEGIN:VCALENDAR
VERSION:2.0
PRODID:-//ChamberMaster//Event Calendar 2.0//EN
METHOD:PUBLISH
X-PUBLISHED-TTL:P3D
REFRESH-INTERVAL:P3D
CALSCALE:GREGORIAN
BEGIN:VEVENT
DTSTART:20150813T220000Z
DTEND:20150814T000000Z
X-MICROSOFT-CDO-ALLDAYEVENT:FALSE
SUMMARY:BAH: Ellerbrock-Norris Insurance
DESCRIPTION:Come and celebrate their new office space! They'll be grilling up some great food and serving refreshments from Thunderhead Brewery!
X-ALT-DESC;FMTTYPE=text/html:Come and celebrate their new office space! They&#39\;ll be grilling up some&nbsp\;great food&nbsp\;and serving refreshments from Thunderhead Brewery!
LOCATION:4004 6th Ave.
UID:e.1404.6181
SEQUENCE:3
DTSTAMP:20260422T115003Z
URL:https://members.kearneycoc.org/events/details/bah-ellerbrock-norris-insurance-08-13-2015-6181
END:VEVENT

END:VCALENDAR
