BEGIN:VCALENDAR
VERSION:2.0
PRODID:-//ChamberMaster//Event Calendar 2.0//EN
METHOD:PUBLISH
X-PUBLISHED-TTL:P3D
REFRESH-INTERVAL:P3D
CALSCALE:GREGORIAN
BEGIN:VEVENT
DTSTART:20140410T220000Z
DTEND:20140411T000000Z
X-MICROSOFT-CDO-ALLDAYEVENT:FALSE
SUMMARY:BAH - Emeritus at Northridge Place
DESCRIPTION:Join us for the Emeritus at Northridge Place Business After Hours. There will be food and beverages.
X-ALT-DESC;FMTTYPE=text/html:Join us for the Emeritus at Northridge Place Business After Hours. There will be food and beverages.&nbsp\;
LOCATION:5410 17th Ave Kearney\, NE
UID:e.1404.4439
SEQUENCE:3
DTSTAMP:20260423T150000Z
URL:https://members.kearneycoc.org/events/details/bah-emeritus-at-northridge-place-04-10-2014-4439
END:VEVENT

END:VCALENDAR
