BEGIN:VCALENDAR
VERSION:2.0
PRODID:-//ChamberMaster//Event Calendar 2.0//EN
METHOD:PUBLISH
X-PUBLISHED-TTL:P3D
REFRESH-INTERVAL:P3D
CALSCALE:GREGORIAN
BEGIN:VEVENT
DTSTART:20130418T220000Z
DTEND:20130419T000000Z
X-MICROSOFT-CDO-ALLDAYEVENT:FALSE
SUMMARY:BAH: Exchange Bank
DESCRIPTION:Join us for our premiere relationship building event\, Business After Hours\, hosted by Exchange Bank
X-ALT-DESC;FMTTYPE=text/html:Join us for our premiere relationship building event\, Business After Hours\, hosted by Exchange Bank
LOCATION:3110 N 2nd Ave
UID:e.1404.2245
SEQUENCE:3
DTSTAMP:20260424T141226Z
URL:https://members.kearneycoc.org/events/details/bah-exchange-bank-04-18-2013-2245
END:VEVENT

END:VCALENDAR
