BEGIN:VCALENDAR
VERSION:2.0
PRODID:-//ChamberMaster//Event Calendar 2.0//EN
METHOD:PUBLISH
X-PUBLISHED-TTL:P3D
REFRESH-INTERVAL:P3D
CALSCALE:GREGORIAN
BEGIN:VEVENT
DTSTART:20141002T220000Z
DTEND:20141003T000000Z
X-MICROSOFT-CDO-ALLDAYEVENT:FALSE
SUMMARY:BAH: Exchange Bank
DESCRIPTION:Enjoy great people\, food and beverages at this annual Business After Hours!
X-ALT-DESC;FMTTYPE=text/html:Enjoy great people\, food and beverages at this annual Business After Hours!
LOCATION:3110 N Second Ave
UID:e.1404.5161
SEQUENCE:3
DTSTAMP:20260423T051100Z
URL:https://members.kearneycoc.org/events/details/bah-exchange-bank-10-02-2014-5161
END:VEVENT

END:VCALENDAR
