BEGIN:VCALENDAR
VERSION:2.0
PRODID:-//ChamberMaster//Event Calendar 2.0//EN
METHOD:PUBLISH
X-PUBLISHED-TTL:P3D
REFRESH-INTERVAL:P3D
CALSCALE:GREGORIAN
BEGIN:VEVENT
DTSTART:20151008T220000Z
DTEND:20151009T000000Z
X-MICROSOFT-CDO-ALLDAYEVENT:FALSE
SUMMARY:BAH: Exchange Bank
DESCRIPTION:Enjoy great people\, food and beverages at this annual Business After Hours!  This year's event is sponsored by Leadership Kearney and catering is provided by Cunningham's Journal.
X-ALT-DESC;FMTTYPE=text/html:Enjoy great people\, food and beverages at this annual Business After Hours! &nbsp\;This year&#39\;s event is sponsored by Leadership Kearney and catering is provided&nbsp\;by Cunningham&#39\;s Journal.
LOCATION:3110 N 2nd Ave
UID:e.1404.5984
SEQUENCE:3
DTSTAMP:20260422T083559Z
URL:https://members.kearneycoc.org/events/details/bah-exchange-bank-10-08-2015-5984
END:VEVENT

END:VCALENDAR
