BEGIN:VCALENDAR
VERSION:2.0
PRODID:-//ChamberMaster//Event Calendar 2.0//EN
METHOD:PUBLISH
X-PUBLISHED-TTL:P3D
REFRESH-INTERVAL:P3D
CALSCALE:GREGORIAN
BEGIN:VEVENT
DTSTART:20160512T223000Z
DTEND:20160513T003000Z
X-MICROSOFT-CDO-ALLDAYEVENT:FALSE
SUMMARY:BAH: First National Bank
DESCRIPTION:Come celebrate with First National Bank's Annual Business After Hours Event! Catered by Cunningham's-you don't want to miss out!
X-ALT-DESC;FMTTYPE=text/html:Come celebrate with First National Bank&#39\;s Annual Business After Hours Event! Catered by Cunningham&#39\;s-you don&#39\;t want to miss out!
LOCATION:2223 2nd Avenue
UID:e.1404.7031
SEQUENCE:3
DTSTAMP:20260421T215904Z
URL:https://members.kearneycoc.org/events/details/bah-first-national-bank-05-12-2016-7031
END:VEVENT

END:VCALENDAR
