BEGIN:VCALENDAR
VERSION:2.0
PRODID:-//ChamberMaster//Event Calendar 2.0//EN
METHOD:PUBLISH
X-PUBLISHED-TTL:P3D
REFRESH-INTERVAL:P3D
CALSCALE:GREGORIAN
BEGIN:VEVENT
DTSTART:20150514T223000Z
DTEND:20150515T003000Z
X-MICROSOFT-CDO-ALLDAYEVENT:FALSE
SUMMARY:BAH: First National Bank
DESCRIPTION:Come celebrate with First National Bank's Annual Business After Hours Event!
X-ALT-DESC;FMTTYPE=text/html:Come celebrate with First National Bank&#39\;s Annual Business After Hours Event!
LOCATION:2223 2nd Avenue
UID:e.1404.5936
SEQUENCE:3
DTSTAMP:20260422T165117Z
URL:https://members.kearneycoc.org/events/details/bah-first-national-bank-05-14-2015-5936
END:VEVENT

END:VCALENDAR
