BEGIN:VCALENDAR
VERSION:2.0
PRODID:-//ChamberMaster//Event Calendar 2.0//EN
METHOD:PUBLISH
X-PUBLISHED-TTL:P3D
REFRESH-INTERVAL:P3D
CALSCALE:GREGORIAN
BEGIN:VEVENT
DTSTART:20160616T220000Z
DTEND:20160617T000000Z
X-MICROSOFT-CDO-ALLDAYEVENT:FALSE
SUMMARY:BAH: FirsTier Bank of Kearney
DESCRIPTION:Enjoy great people\, food and beverages at Business After Hours! The Cellar is catering and it's sure to be a festive night! Bring your business cards-you could win a $100 gift card to Oxford Locker and many other items!
X-ALT-DESC;FMTTYPE=text/html:Enjoy great people\, food and beverages at Business After Hours! The Cellar is catering and it&#39\;s sure to be a festive night! Bring your business cards-you could win a $100 gift card to Oxford Locker and many other items!
LOCATION:1015 2nd Avenue
UID:e.1404.8718
SEQUENCE:3
DTSTAMP:20260421T184753Z
URL:https://members.kearneycoc.org/events/details/bah-firstier-bank-of-kearney-06-16-2016-8718
END:VEVENT

END:VCALENDAR
