BEGIN:VCALENDAR
VERSION:2.0
PRODID:-//ChamberMaster//Event Calendar 2.0//EN
METHOD:PUBLISH
X-PUBLISHED-TTL:P3D
REFRESH-INTERVAL:P3D
CALSCALE:GREGORIAN
BEGIN:VEVENT
DTSTART:20161110T230000Z
DTEND:20161111T010000Z
X-MICROSOFT-CDO-ALLDAYEVENT:FALSE
SUMMARY:BAH: Five Nines
DESCRIPTION:Join us for Business After Hours with Five Nines! Help them fight childhood hunger by bringing a non-perishable item for Scruff4Schools. Also\, register to win a Amazon Fire\, which will be giving away that night to one lucky winner! The Alley Rose is catering and it's sure to be another great Business After Hours!
X-ALT-DESC;FMTTYPE=text/html:Join us for Business After Hours with Five Nines! Help them fight childhood hunger by bringing a non-perishable item for Scruff4Schools. Also\, register to win a Amazon Fire\, which will be giving&nbsp\;away that night to one lucky winner! The Alley Rose is catering and it&#39\;s sure to be another great Business After Hours!
LOCATION:5609 1st Avenue\, Ste A-1
UID:e.1404.9018
SEQUENCE:3
DTSTAMP:20260421T101402Z
URL:https://members.kearneycoc.org/events/details/bah-five-nines-9018
END:VEVENT

END:VCALENDAR
