BEGIN:VCALENDAR
VERSION:2.0
PRODID:-//ChamberMaster//Event Calendar 2.0//EN
METHOD:PUBLISH
X-PUBLISHED-TTL:P3D
REFRESH-INTERVAL:P3D
CALSCALE:GREGORIAN
BEGIN:VEVENT
DTSTART:20160719T220000Z
DTEND:20160720T000000Z
X-MICROSOFT-CDO-ALLDAYEVENT:FALSE
SUMMARY:BAH: George Spencer Tasting Room
DESCRIPTION:Join us for our annual Business After Hours at George Spencer Tasting Room! Blue Plate Special will be playing and George Spencer will have food and beverages stationed throughout the property. This is one you don't want to miss!
X-ALT-DESC;FMTTYPE=text/html:Join us for our annual Business After Hours at George Spencer Tasting Room! Blue Plate Special will be playing and George Spencer will have food and beverages stationed throughout the property. This is one you don&#39\;t want to miss!
LOCATION:7155 Pawnee Road Gibbon\, Nebraska
UID:e.1404.7472
SEQUENCE:3
DTSTAMP:20260421T184603Z
URL:https://members.kearneycoc.org/events/details/bah-george-spencer-tasting-room-07-19-2016-7472
END:VEVENT

END:VCALENDAR
