BEGIN:VCALENDAR
VERSION:2.0
PRODID:-//ChamberMaster//Event Calendar 2.0//EN
METHOD:PUBLISH
X-PUBLISHED-TTL:P3D
REFRESH-INTERVAL:P3D
CALSCALE:GREGORIAN
BEGIN:VEVENT
DTSTART:20130228T230000Z
DTEND:20130301T010000Z
X-MICROSOFT-CDO-ALLDAYEVENT:FALSE
SUMMARY:BAH: Good Samaitan Hospital
DESCRIPTION:Come see Good Samaritan Hospitals' recently completed new additions and projects and build your network with Business After Hours
X-ALT-DESC;FMTTYPE=text/html:Come see Good Samaritan Hospitals&#39\; recently completed new additions and projects and build your network with Business After Hours
LOCATION:The Business After Hours will be held in the hospital's Walkway Gallery and will include an Artist's Reception for Keith Lowry\, a Kearney artist whose work is currently on display in the hospital's art gallery. Attendees can come through the hospital's main door and walk through the new corridor toward the dining room\, or can enter through the West Tower Entrance and walk toward the dining room. The Walkway Gallery is located on the first level\, just above the atrium dining room.
UID:e.1404.2233
SEQUENCE:3
DTSTAMP:20260424T160015Z
URL:https://members.kearneycoc.org/events/details/bah-good-samaitan-hospital-02-28-2013-2233
END:VEVENT

END:VCALENDAR
