BEGIN:VCALENDAR
VERSION:2.0
PRODID:-//ChamberMaster//Event Calendar 2.0//EN
METHOD:PUBLISH
X-PUBLISHED-TTL:P3D
REFRESH-INTERVAL:P3D
CALSCALE:GREGORIAN
BEGIN:VEVENT
DTSTART:20150910T220000Z
DTEND:20150911T000000Z
X-MICROSOFT-CDO-ALLDAYEVENT:FALSE
SUMMARY:BAH: Good Samaritan Medical Group
DESCRIPTION:Join us for Business After Hours at Good Samaritan Medical Group! Meet staff\, learn more about the services they provide\, take a tour of the offices and enjoy a night of fun and networking. Thunderhead Brewing will be serving beer and wine. Food is provided by the amazing chef's at CHI! You don't want to miss this!
X-ALT-DESC;FMTTYPE=text/html:Join us for Business After Hours at Good Samaritan Medical Group! Meet staff\, learn more about the services they provide\, take a tour of the offices and enjoy a night of fun and networking. Thunderhead Brewing will be serving beer and wine. Food is provided by the amazing chef&#39\;s at CHI! You don&#39\;t want to miss this!
LOCATION:3219 Central Ave\, Ste 200
UID:e.1404.5431
SEQUENCE:3
DTSTAMP:20260422T114646Z
URL:https://members.kearneycoc.org/events/details/bah-good-samaritan-medical-group-09-10-2015-5431
END:VEVENT

END:VCALENDAR
