BEGIN:VCALENDAR
VERSION:2.0
PRODID:-//ChamberMaster//Event Calendar 2.0//EN
METHOD:PUBLISH
X-PUBLISHED-TTL:P3D
REFRESH-INTERVAL:P3D
CALSCALE:GREGORIAN
BEGIN:VEVENT
DTSTART:20150820T220000Z
DTEND:20150821T000000Z
X-MICROSOFT-CDO-ALLDAYEVENT:FALSE
SUMMARY:BAH: Good Samaritan Society - Prairie View Gardens
DESCRIPTION:Join us for a fun night with great food and beverages. Meet staff\, tour the facility and network with other Chamber members and guests! There are lots of door prizes to register for and catering is provided by Hy-Vee!
X-ALT-DESC;FMTTYPE=text/html:Join us for a fun night with great food and beverages. Meet staff\, tour the facility and network with other Chamber members and guests! There are lots of door prizes to register for and catering is provided by&nbsp\;Hy-Vee!
LOCATION:1705 Prairie View Place
UID:e.1404.6173
SEQUENCE:3
DTSTAMP:20260422T114915Z
URL:https://members.kearneycoc.org/events/details/bah-good-samaritan-society-prairie-view-gardens-08-20-2015-6173
END:VEVENT

END:VCALENDAR
