BEGIN:VCALENDAR
VERSION:2.0
PRODID:-//ChamberMaster//Event Calendar 2.0//EN
METHOD:PUBLISH
X-PUBLISHED-TTL:P3D
REFRESH-INTERVAL:P3D
CALSCALE:GREGORIAN
BEGIN:VEVENT
DTSTART:20140827T220000Z
DTEND:20140828T000000Z
X-MICROSOFT-CDO-ALLDAYEVENT:FALSE
SUMMARY:BAH: Heartland Bank
DESCRIPTION:Come check out Heartland Bank's changes after merging State Bank of Riverdale and Geneva State Banks. Lots of exciting people to meet-don't miss it! Win a pair of Husker Football Tickets!
X-ALT-DESC;FMTTYPE=text/html:Come check out Heartland Bank&#39\;s changes after merging State Bank of Riverdale and Geneva State Banks. Lots of exciting people to meet-don&#39\;t miss it! Win a pair of Husker Football Tickets!
LOCATION:212 E 56th Street Kearney\, NE
UID:e.1404.4864
SEQUENCE:3
DTSTAMP:20260423T090041Z
URL:https://members.kearneycoc.org/events/details/bah-heartland-bank-08-27-2014-4864
END:VEVENT

END:VCALENDAR
