BEGIN:VCALENDAR
VERSION:2.0
PRODID:-//ChamberMaster//Event Calendar 2.0//EN
METHOD:PUBLISH
X-PUBLISHED-TTL:P3D
REFRESH-INTERVAL:P3D
CALSCALE:GREGORIAN
BEGIN:VEVENT
DTSTART:20160107T230000Z
DTEND:20160108T010000Z
X-MICROSOFT-CDO-ALLDAYEVENT:FALSE
SUMMARY:BAH: Hello Beautiful
DESCRIPTION:Join us for a Business After Hours to celebrate Hello Beautiful's 1 year Anniversary! They've added a new jewelry line\, plus they've been getting new shipments of dresses in! Do some shopping\, network and enjoy food and beverages provided by Cunningham's.
X-ALT-DESC;FMTTYPE=text/html:Join us for a Business After Hours to celebrate Hello Beautiful&#39\;s 1 year Anniversary! They&#39\;ve added a new jewelry line\, plus they&#39\;ve been getting new shipments of dresses in! Do some shopping\, network and enjoy food and beverages provided by Cunningham&#39\;s.
LOCATION:5012 3rd Ave.\, Ste 150
UID:e.1404.7063
SEQUENCE:3
DTSTAMP:20260422T031933Z
URL:https://members.kearneycoc.org/events/details/bah-hello-beautiful-01-07-2016-7063
END:VEVENT

END:VCALENDAR
