BEGIN:VCALENDAR
VERSION:2.0
PRODID:-//ChamberMaster//Event Calendar 2.0//EN
METHOD:PUBLISH
X-PUBLISHED-TTL:P3D
REFRESH-INTERVAL:P3D
CALSCALE:GREGORIAN
BEGIN:VEVENT
DTSTART:20140904T220000Z
DTEND:20140905T000000Z
X-MICROSOFT-CDO-ALLDAYEVENT:FALSE
SUMMARY:BAH: Hollman Media/Kearney App
DESCRIPTION:Presenting the Kearney App kickoff party.
X-ALT-DESC;FMTTYPE=text/html:Presenting the Kearney App kickoff party.
LOCATION:2430 Cherry Ave
UID:e.1404.4862
SEQUENCE:3
DTSTAMP:20260423T070001Z
URL:https://members.kearneycoc.org/events/details/bah-hollman-media-kearney-app-09-04-2014-4862
END:VEVENT

END:VCALENDAR
