BEGIN:VCALENDAR
VERSION:2.0
PRODID:-//ChamberMaster//Event Calendar 2.0//EN
METHOD:PUBLISH
X-PUBLISHED-TTL:P3D
REFRESH-INTERVAL:P3D
CALSCALE:GREGORIAN
BEGIN:VEVENT
DTSTART:20140501T220000Z
DTEND:20140502T000000Z
X-MICROSOFT-CDO-ALLDAYEVENT:FALSE
SUMMARY:BAH: Homestead Assisted Living
DESCRIPTION:Join us at Homestead Assisted Living's Business After Hours\, for a pre-cinco De Mayo celebration with door prizes\, margaritas\, nacho bar and much more!
X-ALT-DESC;FMTTYPE=text/html:Join us at Homestead Assisted Living&#39\;s Business After Hours\, for a pre-cinco De Mayo celebration with door prizes\, margaritas\, nacho bar and much more!&nbsp\;
LOCATION:4205 6th Ave Kearney\, NE
UID:e.1404.4682
SEQUENCE:3
DTSTAMP:20260423T133127Z
URL:https://members.kearneycoc.org/events/details/bah-homestead-assisted-living-05-01-2014-4682
END:VEVENT

END:VCALENDAR
