BEGIN:VCALENDAR
VERSION:2.0
PRODID:-//ChamberMaster//Event Calendar 2.0//EN
METHOD:PUBLISH
X-PUBLISHED-TTL:P3D
REFRESH-INTERVAL:P3D
CALSCALE:GREGORIAN
BEGIN:VEVENT
DTSTART:20191003T220000Z
DTEND:20191004T000000Z
X-MICROSOFT-CDO-ALLDAYEVENT:FALSE
SUMMARY:BAH - Kearney Area Animal Shelter
DESCRIPTION:Join us for a Business After Hours with the Kearney Area Animal Shelter!
X-ALT-DESC;FMTTYPE=text/html:Join us for a Business After Hours with the Kearney Area Animal Shelter!
LOCATION:3205 W Hwy 30 Kearney NE
UID:e.1404.16587
SEQUENCE:3
DTSTAMP:20260425T164056Z
URL:https://members.kearneycoc.org/events/details/bah-kearney-area-animal-shelter-16587
END:VEVENT

END:VCALENDAR
