BEGIN:VCALENDAR
VERSION:2.0
PRODID:-//ChamberMaster//Event Calendar 2.0//EN
METHOD:PUBLISH
X-PUBLISHED-TTL:P3D
REFRESH-INTERVAL:P3D
CALSCALE:GREGORIAN
BEGIN:VEVENT
DTSTART:20150610T220000Z
DTEND:20150611T000000Z
X-MICROSOFT-CDO-ALLDAYEVENT:FALSE
SUMMARY:BAH: Kearney Country House
DESCRIPTION:Join us in a Business After Hours at the NEW Kearney Country House. We'll kick this event off with a Ribbon Cutting Ceremony followed by food and beverages by Cunningham's Journal.
X-ALT-DESC;FMTTYPE=text/html:Join us in a Business After Hours at the NEW Kearney Country House. We&#39\;ll kick this event off with a Ribbon Cutting Ceremony followed by food and beverages by Cunningham&#39\;s Journal.
LOCATION:5605 K Avenue
UID:e.1404.6263
SEQUENCE:3
DTSTAMP:20260422T152606Z
URL:https://members.kearneycoc.org/events/details/bah-kearney-country-house-06-10-2015-6263
END:VEVENT

END:VCALENDAR
