BEGIN:VCALENDAR
VERSION:2.0
PRODID:-//ChamberMaster//Event Calendar 2.0//EN
METHOD:PUBLISH
X-PUBLISHED-TTL:P3D
REFRESH-INTERVAL:P3D
CALSCALE:GREGORIAN
BEGIN:VEVENT
DTSTART:20190523T220000Z
DTEND:20190524T000000Z
X-MICROSOFT-CDO-ALLDAYEVENT:FALSE
SUMMARY:BAH - Kearney Regional Medical Center
DESCRIPTION:Join us for Business After Hours at Kearney Regional Medical Center and help them celebrate their 5 year anniversary!
X-ALT-DESC;FMTTYPE=text/html:Join us for Business After Hours at Kearney Regional Medical Center and help them celebrate their 5 year anniversary!
LOCATION:Kearney Regional Medical Center 804 22nd Ave Kearney NE
UID:e.1404.15868
SEQUENCE:3
DTSTAMP:20260426T020749Z
URL:https://members.kearneycoc.org/events/details/bah-kearney-regional-medical-center-15868
END:VEVENT

END:VCALENDAR
