BEGIN:VCALENDAR
VERSION:2.0
PRODID:-//ChamberMaster//Event Calendar 2.0//EN
METHOD:PUBLISH
X-PUBLISHED-TTL:P3D
REFRESH-INTERVAL:P3D
CALSCALE:GREGORIAN
BEGIN:VEVENT
DTSTART:20131121T230000Z
DTEND:20131122T010000Z
X-MICROSOFT-CDO-ALLDAYEVENT:FALSE
SUMMARY:BAH- Leadership Kearney
DESCRIPTION:Leadership Kearney and Affiliated Brokers are hosting a joint Business After Hours from 5-7PM.
X-ALT-DESC;FMTTYPE=text/html:Leadership Kearney and Affiliated Brokers are hosting a joint Business After Hours from 5-7PM.
LOCATION:316 West 39th Street Kearney\, NE
UID:e.1404.3301
SEQUENCE:3
DTSTAMP:20260423T231151Z
URL:https://members.kearneycoc.org/events/details/bah-leadership-kearney-11-21-2013-3301
END:VEVENT

END:VCALENDAR
