BEGIN:VCALENDAR
VERSION:2.0
PRODID:-//ChamberMaster//Event Calendar 2.0//EN
METHOD:PUBLISH
X-PUBLISHED-TTL:P3D
REFRESH-INTERVAL:P3D
CALSCALE:GREGORIAN
BEGIN:VEVENT
DTSTART:20160915T220000Z
DTEND:20160916T000000Z
X-MICROSOFT-CDO-ALLDAYEVENT:FALSE
SUMMARY:BAH: SCORR Marketing
DESCRIPTION:Join us for a Business After Hours tailgate at SCORR Marketing's expanded office location! Fresh off of a company rebrand and office expansion\, SCORR Marketing has called downtown Kearney home for more than 13 years. Come down to The Bricks for tours\, tailgating games and prizes\, plus food catered by Cunningham's Journal and HyVee!
X-ALT-DESC;FMTTYPE=text/html:<span style="color:#1D2129\;">Join us for a Business After Hours tailgate at SCORR Marketing&rsquo\;s expanded office location! Fresh off of a company rebrand and office expansion\, SCORR Marketing has called downtown Kearney home for more than 13 years. Come down to The Bricks for tours\, tailgating games and prizes\, plus food catered by Cunningham&rsquo\;s Journal and HyVee!</span>
LOCATION:2201 Central Ave.\, Ste A
UID:e.1404.8808
SEQUENCE:3
DTSTAMP:20260421T140506Z
URL:https://members.kearneycoc.org/events/details/bah-scorr-marketing-09-15-2016-8808
END:VEVENT

END:VCALENDAR
