BEGIN:VCALENDAR
VERSION:2.0
PRODID:-//ChamberMaster//Event Calendar 2.0//EN
METHOD:PUBLISH
X-PUBLISHED-TTL:P3D
REFRESH-INTERVAL:P3D
CALSCALE:GREGORIAN
BEGIN:VEVENT
DTSTART:20151022T220000Z
DTEND:20151023T000000Z
X-MICROSOFT-CDO-ALLDAYEVENT:FALSE
SUMMARY:BAH-Suite Child
DESCRIPTION:Come celebrate Suite Child's 2nd Birthday Bash! The gals at Suite Child will be hosting a fun night with food\, refreshments and prizes! Catering is provided by Cunningham's-this is a Business After Hours you don't want to miss!
X-ALT-DESC;FMTTYPE=text/html:Come celebrate Suite Child&#39\;s 2nd Birthday Bash! The gals at Suite Child will be hosting a fun night with food\, refreshments and prizes! Catering is provided by Cunningham&#39\;s-this is a Business After Hours you don&#39\;t want to miss!
LOCATION:2304 Central Avenue
UID:e.1404.6151
SEQUENCE:3
DTSTAMP:20260422T083559Z
URL:https://members.kearneycoc.org/events/details/bah-suite-child-10-22-2015-6151
END:VEVENT

END:VCALENDAR
