BEGIN:VCALENDAR
VERSION:2.0
PRODID:-//ChamberMaster//Event Calendar 2.0//EN
METHOD:PUBLISH
X-PUBLISHED-TTL:P3D
REFRESH-INTERVAL:P3D
CALSCALE:GREGORIAN
BEGIN:VEVENT
DTSTART:20191017T220000Z
DTEND:20191018T000000Z
X-MICROSOFT-CDO-ALLDAYEVENT:FALSE
SUMMARY:BAH - Town & Country Bank
DESCRIPTION:Join us for a Business After Hours with Town & Country Bank!
X-ALT-DESC;FMTTYPE=text/html:Join us for a Business After Hours with Town &amp\; Country Bank!&nbsp\;
LOCATION:6005 2nd Ave. West Kearney NE 68847
UID:e.1404.16572
SEQUENCE:3
DTSTAMP:20260425T164058Z
URL:https://members.kearneycoc.org/events/details/bah-town-country-bank-16572
END:VEVENT

END:VCALENDAR
