BEGIN:VCALENDAR
VERSION:2.0
PRODID:-//ChamberMaster//Event Calendar 2.0//EN
METHOD:PUBLISH
X-PUBLISHED-TTL:P3D
REFRESH-INTERVAL:P3D
CALSCALE:GREGORIAN
BEGIN:VEVENT
DTSTART:20150625T213000Z
DTEND:20150625T233000Z
X-MICROSOFT-CDO-ALLDAYEVENT:FALSE
SUMMARY:BAH: Tri-Cities hosted by Bosselman Energy Companies
DESCRIPTION:Join Kearney\, Grand Island and Hastings in a Tri-City Business After Event! This is sure to be a great event-don't miss it!
X-ALT-DESC;FMTTYPE=text/html:Join Kearney\, Grand Island and Hastings in a Tri-City Business After&nbsp\;Event! This is sure to be a great event-don&#39\;t miss it!
LOCATION:Bosselman Tank and Trailer 4705 Juergen Road Grand Island\, NE
UID:e.1404.5976
SEQUENCE:3
DTSTAMP:20260422T165456Z
URL:https://members.kearneycoc.org/events/details/bah-tri-cities-hosted-by-bosselman-energy-companies-06-25-2015-5976
END:VEVENT

END:VCALENDAR
