BEGIN:VCALENDAR
VERSION:2.0
PRODID:-//ChamberMaster//Event Calendar 2.0//EN
METHOD:PUBLISH
X-PUBLISHED-TTL:P3D
REFRESH-INTERVAL:P3D
CALSCALE:GREGORIAN
BEGIN:VEVENT
DTSTART:20161006T220000Z
DTEND:20161007T000000Z
X-MICROSOFT-CDO-ALLDAYEVENT:FALSE
SUMMARY:BAH U-Med Spa & Weight Management
DESCRIPTION:Celebrating their anniversary with a Business After Hours! Alley Rose will be catering food and beverages. Register to win prizes and mix and mingle with some old and new connections. It's sure to be a great time! Don't miss it!
X-ALT-DESC;FMTTYPE=text/html:Celebrating their anniversary with a Business After Hours! Alley Rose will be catering food and beverages. Register to win prizes and mix and mingle with some old and new connections.&nbsp\;It&#39\;s sure to be a great time! Don&#39\;t miss it!
LOCATION:5609 1st Ave Ste B
UID:e.1404.7029
SEQUENCE:3
DTSTAMP:20260421T140517Z
URL:https://members.kearneycoc.org/events/details/bah-u-med-spa-weight-management-10-06-2016-7029
END:VEVENT

END:VCALENDAR
