BEGIN:VCALENDAR
VERSION:2.0
PRODID:-//ChamberMaster//Event Calendar 2.0//EN
METHOD:PUBLISH
X-PUBLISHED-TTL:P3D
REFRESH-INTERVAL:P3D
CALSCALE:GREGORIAN
BEGIN:VEVENT
DTSTART:20220505T220000Z
DTEND:20220506T000000Z
X-MICROSOFT-CDO-ALLDAYEVENT:FALSE
SUMMARY:BAH Unite Private Networks
DESCRIPTION:Join us for a Business After Hours hosted by Unite Private Networks!
X-ALT-DESC;FMTTYPE=text/html:Join us for a Business After Hours hosted by Unite Private Networks!
LOCATION:Cunningham's on the Lake 610 Talmadge Street Kearney\, NE 68845
UID:e.1404.19653
SEQUENCE:3
DTSTAMP:20260423T113444Z
URL:https://members.kearneycoc.org/events/details/bah-unite-private-networks-19653
END:VEVENT

END:VCALENDAR
