BEGIN:VCALENDAR
VERSION:2.0
PRODID:-//ChamberMaster//Event Calendar 2.0//EN
METHOD:PUBLISH
X-PUBLISHED-TTL:P3D
REFRESH-INTERVAL:P3D
CALSCALE:GREGORIAN
BEGIN:VEVENT
DTSTART:20150924T220000Z
DTEND:20150925T000000Z
X-MICROSOFT-CDO-ALLDAYEVENT:FALSE
SUMMARY:BAH: United Way
DESCRIPTION:Join us for our 2016 Campaign Kickoff A-Dress Event. This annual Business After Hours is always a hit with our members!Join us to hear from the A-Dress spokeswomen and more about the upcoming campaign. Enjoy food and beverages catered by Cunningham's!
X-ALT-DESC;FMTTYPE=text/html:<span style="font-size:14px\;"><span style="font-family:arial\;">Join us for our 2016 Campaign Kickoff A-Dress Event. This annual Business After Hours is always a hit with our members!<span style="color: rgb(20\, 24\, 35)\; line-height: 19.32px\; background-color: rgb(255\, 255\, 255)\;">Join us to hear from the A-Dress spokeswomen and more about the upcoming campaign. Enjoy food and beverages catered by Cunningham&#39\;s!</span></span></span>
LOCATION:4009 6th Ave\, Ste 19
UID:e.1404.6149
SEQUENCE:3
DTSTAMP:20260422T114554Z
URL:https://members.kearneycoc.org/events/details/bah-united-way-09-24-2015-6149
END:VEVENT

END:VCALENDAR
